BEGIN:VCALENDAR
VERSION:2.0
PRODID:ILLC Website
X-WR-TIMEZONE:Europe/Amsterdam
BEGIN:VTIMEZONE
TZID:Europe/Amsterdam
X-LIC-LOCATION:Europe/Amsterdam
BEGIN:DAYLIGHT
TZOFFSETFROM:+0100
TZOFFSETTO:+0200
TZNAME:CEST
DTSTART:19700329T020000
RRULE:FREQ=YEARLY;BYMONTH=3;BYDAY=-1SU
END:DAYLIGHT
BEGIN:STANDARD
TZOFFSETFROM:+0200
TZOFFSETTO:+0100
TZNAME:CET
DTSTART:19701025T030000
RRULE:FREQ=YEARLY;BYMONTH=10;BYDAY=-1SU
END:STANDARD
END:VTIMEZONE
BEGIN:VEVENT
UID:/NewsandEvents/Events/Defenses/newsitem/16149/
 24-April-2026-MoL-Defense-Orestis-Tsakakos
DTSTAMP:20260415T164927
SUMMARY:MoL Defense, Orestis Tsakakos
DTSTART;TZID=Europe/Amsterdam:20260424T130000
LOCATION:ILLC seminar room F1.15, Science Park 107
 , Amsterdam
ATTENDEE;ROLE=Supervisor:Yurii Khomskii and Dorott
 ya Sziráki
ATTENDEE;ROLE=Mentor:Alexandru Baltag
DESCRIPTION:For more information, please contact Y
 urii Khomskii y.d.khomskii at uva.nl.
X-ALT-DESC;FMTTYPE=text/html:\n  <p>For more infor
 mation, please contact Yurii Khomskii <a class="em
 ail" href="#">y.d.khomskii<span class="at">&nbsp;a
 t&nbsp;</span>uva.nl</a>.</p>\n
URL:/NewsandEvents/Events/Defenses/newsitem/16149/
 24-April-2026-MoL-Defense-Orestis-Tsakakos
CONTACT:Yurii Khomskii at y.d.khomskii at uva.nl
END:VEVENT
END:VCALENDAR
